BEGIN:VCALENDAR
METHOD:PUBLISH
PRODID:Data::ICal 0.13
VERSION:2.0
BEGIN:VEVENT
DESCRIPTION:Come show off your best swing while supporting the I AM A Golfer Foundation and mingling with celebrities in sports, fashion, and entertainment.
DTSTAMP:20260420T114042Z
DTSTART;TZID=America/Chicago:20250926T080000
DTEND;TZID=America/Chicago:20250926T150000
LOCATION:1800 Southerland Avenue\, Dallas\, TX\, 75203
SUMMARY:The 13th Annual Radio One Golf Classic
UID:4382888-1758873600-1758898800
END:VEVENT
END:VCALENDAR
