BEGIN:VCALENDAR
METHOD:PUBLISH
PRODID:Data::ICal 0.13
VERSION:2.0
BEGIN:VEVENT
DESCRIPTION:EACH AND EVERY MONDAY IS “AMATEUR NIGHT MONDAYS” WITH A $300 CASH GIVEAWAY !!\n\nSo you want to be a stripper? Or do you just want to make a quick $300? Here is your chance to see if you got what it takes!!\n\nThis amateur night show is everything but amateur !! EACH AND EVERY MONDAY NIGHT – Club Onyx - 2151 Manana Dr, Dallas, TX 75220\n\n{The ONLY Urban Gentleman’s Club In Dallas/Ft. Worth} #TheOnly1 #OnyxLivesMatters #OnyxBaddies
DTSTAMP:20260421T140847Z
DTSTART;TZID=America/Chicago:20170410T000000
DTEND;TZID=America/Chicago:20170424T000000
LOCATION:
SUMMARY:ONYX &#8211; VERY MONDAY IS “AMATEUR NIGHT MONDAYS”
UID:2969928-1491782400-1492992000
END:VEVENT
END:VCALENDAR
