BEGIN:VCALENDAR
METHOD:PUBLISH
PRODID:Data::ICal 0.13
VERSION:2.0
BEGIN:VEVENT
DESCRIPTION:Join 97.9 The Beat and Dallas Wings star Skylar Diggins for the release of her new children&#039;s book, The Middle School Rules of Skylar Diggins at Barnes and Noble&#039;s on Friday, July 1st at 6:00pm!\n\n[caption id=&quot;attachment_2896918&quot; align=&quot;aligncenter&quot; width=&quot;394&quot;] Source: Roc Nation / Roc Nation[/caption]
DTSTAMP:20260425T010800Z
DTSTART;TZID=America/Chicago:20160701T180000
DTEND;TZID=America/Chicago:20160701T190000
LOCATION:7700 West Northwest Highway\, Dallas\, TX
SUMMARY:Book Signing with Dallas Wings&#8217; Skylar Diggins
UID:2896839-1467396000-1467399600
END:VEVENT
END:VCALENDAR
