BEGIN:VCALENDAR
METHOD:PUBLISH
PRODID:Data::ICal 0.13
VERSION:2.0
BEGIN:VEVENT
DESCRIPTION:[caption id=&quot;attachment_2911291&quot; align=&quot;aligncenter&quot; width=&quot;300&quot;] Source: Radio One Dallas / Radio One Dallas[/caption]\n\n&nbsp;\n\nFor more information about the 5th Annual Radio One Golf Classic please contact 972-331-5400.
DTSTAMP:20260425T010643Z
DTSTART;TZID=America/Chicago:20160930T060000
DTEND;TZID=America/Chicago:20160930T120000
LOCATION:
SUMMARY:5th Annual Radio One Celebrity Golf Classic
UID:2911281-1475215200-1475236800
END:VEVENT
END:VCALENDAR
